BEGIN:VCALENDAR
VERSION:2.0
PRODID:-//Tukios.com/
BEGIN:VEVENT
UID:24dbebc4-76c3-4d1b-a49c-5be6d673eb84@www.ferguson-funeralhome.com
DTSTAMP:20260421T204313Z
DTSTART:20260511T160000Z
DTEND:20260511T170000Z
SUMMARY:Celebration of Life
DESCRIPTION:
URL:https://www.ferguson-funeralhome.com/obituaries/juleigh-giddens
LOCATION:Duncan Municipal Cemetery 1600 South Highway 81  Duncan OK 73533
GEO:34.483898;-97.9665978
END:VEVENT
END:VCALENDAR