BEGIN:VCALENDAR
VERSION:2.0
PRODID:-//Tukios.com/
BEGIN:VEVENT
UID:6ec2c412-781b-4454-bdb5-ae6689af759b@www.ferguson-funeralhome.com
DTSTAMP:20260424T234344Z
DTSTART:20260427T163000Z
DTEND:20260427T173000Z
SUMMARY:Burial
DESCRIPTION:
URL:https://www.ferguson-funeralhome.com/obituaries/donald-jantz
LOCATION: 2296 County Street 2770  Chickasha OK 
GEO:35.0288868;-97.6731036
END:VEVENT
END:VCALENDAR