BEGIN:VCALENDAR
VERSION:2.0
PRODID:-//Tukios.com/
BEGIN:VEVENT
UID:dc1cb334-9844-4123-b4cb-867b039bf9cf@www.ferguson-funeralhome.com
DTSTAMP:20260424T234848Z
DTSTART:20260426T190000Z
DTEND:20260426T210000Z
SUMMARY:Viewing
DESCRIPTION:
URL:https://www.ferguson-funeralhome.com/obituaries/donald-jantz
LOCATION:Ferguson Funeral Home 804 Utah Ave  Chickasha OK 73018
GEO:35.0309136;-97.943143
END:VEVENT
END:VCALENDAR