BEGIN:VCALENDAR
VERSION:2.0
PRODID:-//Tukios.com/
BEGIN:VEVENT
UID:a15b9710-161c-4978-b349-2ba60c34115f@www.ferguson-funeralhome.com
DTSTAMP:20260424T235031Z
DTSTART:20260427T153000Z
DTEND:20260427T163000Z
SUMMARY:Funeral Service
DESCRIPTION:
URL:https://www.ferguson-funeralhome.com/obituaries/donald-jantz
LOCATION:Plainview Mennonite Church 2296 County Street 2770  Chickasha OK 
	73018
GEO:35.052565;-97.9364326
END:VEVENT
END:VCALENDAR